BEGIN:VCALENDAR
VERSION:2.0
PRODID:-//Squarespace Inc/Squarespace 6//v6//EN
BEGIN:VEVENT
UID:59ddd6de6f4ca380969c9a1a@squarespace.com
DTSTAMP:20171011T083650Z
DTSTART:20171026T210000Z
DTEND:20171027T230000Z
SUMMARY:Nelson Principal's Association Conference - 'CoL Wars' Event
GEO:-41.968981;172.690386
LOCATION:Nelson Lakes National Park
END:VEVENT
END:VCALENDAR
