BEGIN:VCALENDAR
VERSION:2.0
PRODID:-//Squarespace Inc/Squarespace 6//v6//EN
BEGIN:VEVENT
UID:595c9d9b197aeab2430be961@squarespace.com
DTSTAMP:20170821T033601Z
DTSTART:20171029T140000Z
DTEND:20171029T200000Z
SUMMARY:The Great Big Little Wedding Fair
GEO:-41.335666;173.178663
LOCATION:Club Waimea\, 345 Lower Queen Street\, Richmond\, Tasman\, 7020\, 
 New Zealand
END:VEVENT
END:VCALENDAR
