BEGIN:VCALENDAR
VERSION:2.0
PRODID:-//Squarespace Inc/Squarespace 6//v6//EN
BEGIN:VEVENT
UID:5a42ebf971c10b3275ec40de@squarespace.com
DTSTAMP:20171227T033929Z
DTSTART:20171229T140000Z
DTEND:20171229T210000Z
SUMMARY:Richmond Market Day
GEO:-41.34424;173.190166
LOCATION:Sundial Square\, Queen Street\, Richmond\, New Zealand
END:VEVENT
END:VCALENDAR
