BEGIN:VCALENDAR
VERSION:2.0
PRODID:-//Squarespace Inc/Squarespace 6//v6//EN
BEGIN:VEVENT
UID:5958c5271e5b6cee374375fd@squarespace.com
DTSTAMP:20170821T033526Z
DTSTART:20171015T140000Z
DTEND:20171015T190000Z
SUMMARY:Nelson Parent & Child Expo 2017
GEO:-41.291528;173.295631
LOCATION:Trafalgar Centre\, 201 Brook St\, Nelson\, Nelson\, 7010\, New Zea
 land
END:VEVENT
END:VCALENDAR
