BEGIN:VCALENDAR
VERSION:2.0
PRODID:-//Squarespace Inc/Squarespace 6//v6//EN
BEGIN:VEVENT
UID:5958cef129687faf878b20ed@squarespace.com
DTSTAMP:20170828T005603Z
DTSTART:20171104T160000Z
DTEND:20171104T200000Z
SUMMARY:NZ Cider Festival 2017
GEO:-41.26225;173.297721
LOCATION:Founders Heritage Park\, 87 Atawhai Drive\, Nelson\, Nelson\, 7010
 \, New Zealand
END:VEVENT
END:VCALENDAR
