BEGIN:VCALENDAR
VERSION:2.0
PRODID:-//Squarespace Inc/Squarespace 6//v6//EN
BEGIN:VEVENT
UID:599502eb893fc0d570a43079@squarespace.com
DTSTAMP:20170828T081034Z
DTSTART:20170930T220000Z
DTEND:20171001T030000Z
SUMMARY:Whole Lotta Life Foundation - Shine Your Light Event
GEO:-41.270632;173.283965
LOCATION:The Granary Founders Park\, Founders Heritage Park\, 87 Atawhai Dr
 ive\, Nelson\, New Zealand
END:VEVENT
END:VCALENDAR
