BEGIN:VCALENDAR
VERSION:2.0
PRODID:-//Squarespace Inc/Squarespace 6//v6//EN
BEGIN:VEVENT
UID:59a3d060e6f2e1c7d087a3c4@squarespace.com
DTSTAMP:20180124T083921Z
DTSTART:20180127T000000Z
DTEND:20180128T230000Z
SUMMARY:Evolve Festival 2018
GEO:-41.261892;173.297877
LOCATION:Founders Park\, Nelson\, New Zealand
END:VEVENT
END:VCALENDAR
