BEGIN:VCALENDAR
VERSION:2.0
PRODID:-//Squarespace Inc/Squarespace 6//v6//EN
BEGIN:VEVENT
UID:59a3d077e58c62501fc721fd@squarespace.com
DTSTAMP:20171227T033353Z
DTSTART:20180324T160000Z
DTEND:20180325T013000Z
SUMMARY:MarchFest 2018
END:VEVENT
END:VCALENDAR
